BEGIN:VCALENDAR
VERSION:2.0
PRODID:-//Jacksonville, IL - ECPv6.15.20//NONSGML v1.0//EN
CALSCALE:GREGORIAN
METHOD:PUBLISH
X-ORIGINAL-URL:http://www.jacksonvilleil.org.dream.website
X-WR-CALDESC:Events for Jacksonville, IL
REFRESH-INTERVAL;VALUE=DURATION:PT1H
X-Robots-Tag:noindex
X-PUBLISHED-TTL:PT1H
BEGIN:VTIMEZONE
TZID:America/Chicago
BEGIN:DAYLIGHT
TZOFFSETFROM:-0600
TZOFFSETTO:-0500
TZNAME:CDT
DTSTART:20240310T080000
END:DAYLIGHT
BEGIN:STANDARD
TZOFFSETFROM:-0500
TZOFFSETTO:-0600
TZNAME:CST
DTSTART:20241103T070000
END:STANDARD
BEGIN:DAYLIGHT
TZOFFSETFROM:-0600
TZOFFSETTO:-0500
TZNAME:CDT
DTSTART:20250309T080000
END:DAYLIGHT
BEGIN:STANDARD
TZOFFSETFROM:-0500
TZOFFSETTO:-0600
TZNAME:CST
DTSTART:20251102T070000
END:STANDARD
BEGIN:DAYLIGHT
TZOFFSETFROM:-0600
TZOFFSETTO:-0500
TZNAME:CDT
DTSTART:20260308T080000
END:DAYLIGHT
BEGIN:STANDARD
TZOFFSETFROM:-0500
TZOFFSETTO:-0600
TZNAME:CST
DTSTART:20261101T070000
END:STANDARD
END:VTIMEZONE
BEGIN:VEVENT
DTSTART;TZID=America/Chicago:20251203T150000
DTEND;TZID=America/Chicago:20251203T160000
DTSTAMP:20260419T120842
CREATED:20230120T210722Z
LAST-MODIFIED:20230222T153006Z
UID:10001433-1764774000-1764777600@www.jacksonvilleil.org.dream.website
SUMMARY:Storytime @ Library
DESCRIPTION:Story Time and Baby Story time are back! And we’re excited to announce that we will be resuming Baby Storytime at 10AM on Wednesdays. \nContact Courtney Langdon at 217-243-5435.
URL:http://www.jacksonvilleil.org.dream.website/event/storytime-2/2025-12-03/
LOCATION:Jacksonville Public Library\, 201 W College Ave\, Jacksonville\, IL\, 62650\, United States
END:VEVENT
BEGIN:VEVENT
DTSTART;TZID=America/Chicago:20251205T100000
DTEND;TZID=America/Chicago:20251205T113000
DTSTAMP:20260419T120842
CREATED:20230120T212002Z
LAST-MODIFIED:20230120T212002Z
UID:10001690-1764928800-1764934200@www.jacksonvilleil.org.dream.website
SUMMARY:Baby Storytime
DESCRIPTION:Join the Library for stories\, songs\, and rhymes! \nStory Time and Baby Story time are back! And we’re excited to announce that we will be resuming afternoon Story Time at 3 PM every Wednesday as well!\n\nFor more information call the library at 217-243-5435
URL:http://www.jacksonvilleil.org.dream.website/event/baby-storytime/2025-12-05/
LOCATION:Jacksonville Public Library\, 201 W College Ave\, Jacksonville\, IL\, 62650\, United States
END:VEVENT
BEGIN:VEVENT
DTSTART;TZID=America/Chicago:20251206T103000
DTEND;TZID=America/Chicago:20251206T110000
DTSTAMP:20260419T120842
CREATED:20230120T212418Z
LAST-MODIFIED:20230120T212418Z
UID:10001945-1765017000-1765018800@www.jacksonvilleil.org.dream.website
SUMMARY:Storytime @ Our Town Books
DESCRIPTION:Story Time is read by local school librarian\, Cathy Sheeley\, and always has a special theme. Our STORY TIME is always free and open to the public\, and generally geared to children ages 0-8\, but all are welcome! \nContact at Our Town Books for more information at 217-245-2665
URL:http://www.jacksonvilleil.org.dream.website/event/storytime-our-town-books/2025-12-06/
LOCATION:Our Town Books\, 64 East Central Park Plaza\, Jacksonville\, IL\, 62650\, United States
END:VEVENT
BEGIN:VEVENT
DTSTART;TZID=America/Chicago:20251210T150000
DTEND;TZID=America/Chicago:20251210T160000
DTSTAMP:20260419T120842
CREATED:20230120T210722Z
LAST-MODIFIED:20230222T153006Z
UID:10001434-1765378800-1765382400@www.jacksonvilleil.org.dream.website
SUMMARY:Storytime @ Library
DESCRIPTION:Story Time and Baby Story time are back! And we’re excited to announce that we will be resuming Baby Storytime at 10AM on Wednesdays. \nContact Courtney Langdon at 217-243-5435.
URL:http://www.jacksonvilleil.org.dream.website/event/storytime-2/2025-12-10/
LOCATION:Jacksonville Public Library\, 201 W College Ave\, Jacksonville\, IL\, 62650\, United States
END:VEVENT
BEGIN:VEVENT
DTSTART;TZID=America/Chicago:20251212T100000
DTEND;TZID=America/Chicago:20251212T113000
DTSTAMP:20260419T120842
CREATED:20230120T212002Z
LAST-MODIFIED:20230120T212002Z
UID:10001691-1765533600-1765539000@www.jacksonvilleil.org.dream.website
SUMMARY:Baby Storytime
DESCRIPTION:Join the Library for stories\, songs\, and rhymes! \nStory Time and Baby Story time are back! And we’re excited to announce that we will be resuming afternoon Story Time at 3 PM every Wednesday as well!\n\nFor more information call the library at 217-243-5435
URL:http://www.jacksonvilleil.org.dream.website/event/baby-storytime/2025-12-12/
LOCATION:Jacksonville Public Library\, 201 W College Ave\, Jacksonville\, IL\, 62650\, United States
END:VEVENT
BEGIN:VEVENT
DTSTART;TZID=America/Chicago:20251213T103000
DTEND;TZID=America/Chicago:20251213T110000
DTSTAMP:20260419T120842
CREATED:20230120T212418Z
LAST-MODIFIED:20230120T212418Z
UID:10001946-1765621800-1765623600@www.jacksonvilleil.org.dream.website
SUMMARY:Storytime @ Our Town Books
DESCRIPTION:Story Time is read by local school librarian\, Cathy Sheeley\, and always has a special theme. Our STORY TIME is always free and open to the public\, and generally geared to children ages 0-8\, but all are welcome! \nContact at Our Town Books for more information at 217-245-2665
URL:http://www.jacksonvilleil.org.dream.website/event/storytime-our-town-books/2025-12-13/
LOCATION:Our Town Books\, 64 East Central Park Plaza\, Jacksonville\, IL\, 62650\, United States
END:VEVENT
BEGIN:VEVENT
DTSTART;TZID=America/Chicago:20251217T150000
DTEND;TZID=America/Chicago:20251217T160000
DTSTAMP:20260419T120842
CREATED:20230120T210722Z
LAST-MODIFIED:20230222T153006Z
UID:10001435-1765983600-1765987200@www.jacksonvilleil.org.dream.website
SUMMARY:Storytime @ Library
DESCRIPTION:Story Time and Baby Story time are back! And we’re excited to announce that we will be resuming Baby Storytime at 10AM on Wednesdays. \nContact Courtney Langdon at 217-243-5435.
URL:http://www.jacksonvilleil.org.dream.website/event/storytime-2/2025-12-17/
LOCATION:Jacksonville Public Library\, 201 W College Ave\, Jacksonville\, IL\, 62650\, United States
END:VEVENT
BEGIN:VEVENT
DTSTART;TZID=America/Chicago:20251219T100000
DTEND;TZID=America/Chicago:20251219T113000
DTSTAMP:20260419T120842
CREATED:20230120T212002Z
LAST-MODIFIED:20230120T212002Z
UID:10001692-1766138400-1766143800@www.jacksonvilleil.org.dream.website
SUMMARY:Baby Storytime
DESCRIPTION:Join the Library for stories\, songs\, and rhymes! \nStory Time and Baby Story time are back! And we’re excited to announce that we will be resuming afternoon Story Time at 3 PM every Wednesday as well!\n\nFor more information call the library at 217-243-5435
URL:http://www.jacksonvilleil.org.dream.website/event/baby-storytime/2025-12-19/
LOCATION:Jacksonville Public Library\, 201 W College Ave\, Jacksonville\, IL\, 62650\, United States
END:VEVENT
BEGIN:VEVENT
DTSTART;TZID=America/Chicago:20251220T103000
DTEND;TZID=America/Chicago:20251220T110000
DTSTAMP:20260419T120842
CREATED:20230120T212418Z
LAST-MODIFIED:20230120T212418Z
UID:10001947-1766226600-1766228400@www.jacksonvilleil.org.dream.website
SUMMARY:Storytime @ Our Town Books
DESCRIPTION:Story Time is read by local school librarian\, Cathy Sheeley\, and always has a special theme. Our STORY TIME is always free and open to the public\, and generally geared to children ages 0-8\, but all are welcome! \nContact at Our Town Books for more information at 217-245-2665
URL:http://www.jacksonvilleil.org.dream.website/event/storytime-our-town-books/2025-12-20/
LOCATION:Our Town Books\, 64 East Central Park Plaza\, Jacksonville\, IL\, 62650\, United States
END:VEVENT
BEGIN:VEVENT
DTSTART;TZID=America/Chicago:20251224T150000
DTEND;TZID=America/Chicago:20251224T160000
DTSTAMP:20260419T120842
CREATED:20230120T210722Z
LAST-MODIFIED:20230222T153006Z
UID:10001436-1766588400-1766592000@www.jacksonvilleil.org.dream.website
SUMMARY:Storytime @ Library
DESCRIPTION:Story Time and Baby Story time are back! And we’re excited to announce that we will be resuming Baby Storytime at 10AM on Wednesdays. \nContact Courtney Langdon at 217-243-5435.
URL:http://www.jacksonvilleil.org.dream.website/event/storytime-2/2025-12-24/
LOCATION:Jacksonville Public Library\, 201 W College Ave\, Jacksonville\, IL\, 62650\, United States
END:VEVENT
BEGIN:VEVENT
DTSTART;TZID=America/Chicago:20251226T100000
DTEND;TZID=America/Chicago:20251226T113000
DTSTAMP:20260419T120842
CREATED:20230120T212002Z
LAST-MODIFIED:20230120T212002Z
UID:10001693-1766743200-1766748600@www.jacksonvilleil.org.dream.website
SUMMARY:Baby Storytime
DESCRIPTION:Join the Library for stories\, songs\, and rhymes! \nStory Time and Baby Story time are back! And we’re excited to announce that we will be resuming afternoon Story Time at 3 PM every Wednesday as well!\n\nFor more information call the library at 217-243-5435
URL:http://www.jacksonvilleil.org.dream.website/event/baby-storytime/2025-12-26/
LOCATION:Jacksonville Public Library\, 201 W College Ave\, Jacksonville\, IL\, 62650\, United States
END:VEVENT
BEGIN:VEVENT
DTSTART;TZID=America/Chicago:20251227T103000
DTEND;TZID=America/Chicago:20251227T110000
DTSTAMP:20260419T120842
CREATED:20230120T212418Z
LAST-MODIFIED:20230120T212418Z
UID:10001948-1766831400-1766833200@www.jacksonvilleil.org.dream.website
SUMMARY:Storytime @ Our Town Books
DESCRIPTION:Story Time is read by local school librarian\, Cathy Sheeley\, and always has a special theme. Our STORY TIME is always free and open to the public\, and generally geared to children ages 0-8\, but all are welcome! \nContact at Our Town Books for more information at 217-245-2665
URL:http://www.jacksonvilleil.org.dream.website/event/storytime-our-town-books/2025-12-27/
LOCATION:Our Town Books\, 64 East Central Park Plaza\, Jacksonville\, IL\, 62650\, United States
END:VEVENT
BEGIN:VEVENT
DTSTART;TZID=America/Chicago:20251231T150000
DTEND;TZID=America/Chicago:20251231T160000
DTSTAMP:20260419T120842
CREATED:20230120T210722Z
LAST-MODIFIED:20230222T153006Z
UID:10001437-1767193200-1767196800@www.jacksonvilleil.org.dream.website
SUMMARY:Storytime @ Library
DESCRIPTION:Story Time and Baby Story time are back! And we’re excited to announce that we will be resuming Baby Storytime at 10AM on Wednesdays. \nContact Courtney Langdon at 217-243-5435.
URL:http://www.jacksonvilleil.org.dream.website/event/storytime-2/2025-12-31/
LOCATION:Jacksonville Public Library\, 201 W College Ave\, Jacksonville\, IL\, 62650\, United States
END:VEVENT
END:VCALENDAR